BEGIN:VCALENDAR
VERSION:2.0
PRODID:-//Westbury Water District - ECPv6.15.20//NONSGML v1.0//EN
CALSCALE:GREGORIAN
METHOD:PUBLISH
X-ORIGINAL-URL:https://www.westburywaterdistrict.com
X-WR-CALDESC:Events for Westbury Water District
REFRESH-INTERVAL;VALUE=DURATION:PT1H
X-Robots-Tag:noindex
X-PUBLISHED-TTL:PT1H
BEGIN:VTIMEZONE
TZID:America/New_York
BEGIN:DAYLIGHT
TZOFFSETFROM:-0500
TZOFFSETTO:-0400
TZNAME:EDT
DTSTART:20260308T070000
END:DAYLIGHT
BEGIN:STANDARD
TZOFFSETFROM:-0400
TZOFFSETTO:-0500
TZNAME:EST
DTSTART:20261101T060000
END:STANDARD
BEGIN:DAYLIGHT
TZOFFSETFROM:-0500
TZOFFSETTO:-0400
TZNAME:EDT
DTSTART:20270314T070000
END:DAYLIGHT
BEGIN:STANDARD
TZOFFSETFROM:-0400
TZOFFSETTO:-0500
TZNAME:EST
DTSTART:20271107T060000
END:STANDARD
BEGIN:DAYLIGHT
TZOFFSETFROM:-0500
TZOFFSETTO:-0400
TZNAME:EDT
DTSTART:20280312T070000
END:DAYLIGHT
BEGIN:STANDARD
TZOFFSETFROM:-0400
TZOFFSETTO:-0500
TZNAME:EST
DTSTART:20281105T060000
END:STANDARD
END:VTIMEZONE
BEGIN:VEVENT
DTSTART;TZID=America/New_York:20270602T160000
DTEND;TZID=America/New_York:20270602T170000
DTSTAMP:20260420T104200
CREATED:20260409T171127Z
LAST-MODIFIED:20260409T171236Z
UID:10000060-1811952000-1811955600@www.westburywaterdistrict.com
SUMMARY:Board Meetings Held on Wednesdays
DESCRIPTION:NO MEETING ON 04/15/26
URL:https://www.westburywaterdistrict.com/event/board-meeting-2/2027-06-02/
END:VEVENT
BEGIN:VEVENT
DTSTART;TZID=America/New_York:20270609T160000
DTEND;TZID=America/New_York:20270609T170000
DTSTAMP:20260420T104200
CREATED:20260409T171127Z
LAST-MODIFIED:20260409T171236Z
UID:10000061-1812556800-1812560400@www.westburywaterdistrict.com
SUMMARY:Board Meetings Held on Wednesdays
DESCRIPTION:NO MEETING ON 04/15/26
URL:https://www.westburywaterdistrict.com/event/board-meeting-2/2027-06-09/
END:VEVENT
BEGIN:VEVENT
DTSTART;TZID=America/New_York:20270616T160000
DTEND;TZID=America/New_York:20270616T170000
DTSTAMP:20260420T104200
CREATED:20260409T171127Z
LAST-MODIFIED:20260409T171236Z
UID:10000062-1813161600-1813165200@www.westburywaterdistrict.com
SUMMARY:Board Meetings Held on Wednesdays
DESCRIPTION:NO MEETING ON 04/15/26
URL:https://www.westburywaterdistrict.com/event/board-meeting-2/2027-06-16/
END:VEVENT
BEGIN:VEVENT
DTSTART;TZID=America/New_York:20270623T160000
DTEND;TZID=America/New_York:20270623T170000
DTSTAMP:20260420T104200
CREATED:20260409T171127Z
LAST-MODIFIED:20260409T171236Z
UID:10000063-1813766400-1813770000@www.westburywaterdistrict.com
SUMMARY:Board Meetings Held on Wednesdays
DESCRIPTION:NO MEETING ON 04/15/26
URL:https://www.westburywaterdistrict.com/event/board-meeting-2/2027-06-23/
END:VEVENT
BEGIN:VEVENT
DTSTART;TZID=America/New_York:20270630T160000
DTEND;TZID=America/New_York:20270630T170000
DTSTAMP:20260420T104200
CREATED:20260409T171127Z
LAST-MODIFIED:20260409T171236Z
UID:10000064-1814371200-1814374800@www.westburywaterdistrict.com
SUMMARY:Board Meetings Held on Wednesdays
DESCRIPTION:NO MEETING ON 04/15/26
URL:https://www.westburywaterdistrict.com/event/board-meeting-2/2027-06-30/
END:VEVENT
BEGIN:VEVENT
DTSTART;TZID=America/New_York:20270707T160000
DTEND;TZID=America/New_York:20270707T170000
DTSTAMP:20260420T104200
CREATED:20260409T171127Z
LAST-MODIFIED:20260409T171236Z
UID:10000065-1814976000-1814979600@www.westburywaterdistrict.com
SUMMARY:Board Meetings Held on Wednesdays
DESCRIPTION:NO MEETING ON 04/15/26
URL:https://www.westburywaterdistrict.com/event/board-meeting-2/2027-07-07/
END:VEVENT
BEGIN:VEVENT
DTSTART;TZID=America/New_York:20270714T160000
DTEND;TZID=America/New_York:20270714T170000
DTSTAMP:20260420T104200
CREATED:20260409T171127Z
LAST-MODIFIED:20260409T171236Z
UID:10000066-1815580800-1815584400@www.westburywaterdistrict.com
SUMMARY:Board Meetings Held on Wednesdays
DESCRIPTION:NO MEETING ON 04/15/26
URL:https://www.westburywaterdistrict.com/event/board-meeting-2/2027-07-14/
END:VEVENT
BEGIN:VEVENT
DTSTART;TZID=America/New_York:20270721T160000
DTEND;TZID=America/New_York:20270721T170000
DTSTAMP:20260420T104200
CREATED:20260409T171127Z
LAST-MODIFIED:20260409T171236Z
UID:10000067-1816185600-1816189200@www.westburywaterdistrict.com
SUMMARY:Board Meetings Held on Wednesdays
DESCRIPTION:NO MEETING ON 04/15/26
URL:https://www.westburywaterdistrict.com/event/board-meeting-2/2027-07-21/
END:VEVENT
BEGIN:VEVENT
DTSTART;TZID=America/New_York:20270728T160000
DTEND;TZID=America/New_York:20270728T170000
DTSTAMP:20260420T104200
CREATED:20260409T171127Z
LAST-MODIFIED:20260409T171236Z
UID:10000068-1816790400-1816794000@www.westburywaterdistrict.com
SUMMARY:Board Meetings Held on Wednesdays
DESCRIPTION:NO MEETING ON 04/15/26
URL:https://www.westburywaterdistrict.com/event/board-meeting-2/2027-07-28/
END:VEVENT
BEGIN:VEVENT
DTSTART;TZID=America/New_York:20270804T160000
DTEND;TZID=America/New_York:20270804T170000
DTSTAMP:20260420T104200
CREATED:20260409T171127Z
LAST-MODIFIED:20260409T171236Z
UID:10000069-1817395200-1817398800@www.westburywaterdistrict.com
SUMMARY:Board Meetings Held on Wednesdays
DESCRIPTION:NO MEETING ON 04/15/26
URL:https://www.westburywaterdistrict.com/event/board-meeting-2/2027-08-04/
END:VEVENT
BEGIN:VEVENT
DTSTART;TZID=America/New_York:20270811T160000
DTEND;TZID=America/New_York:20270811T170000
DTSTAMP:20260420T104200
CREATED:20260409T171127Z
LAST-MODIFIED:20260409T171236Z
UID:10000070-1818000000-1818003600@www.westburywaterdistrict.com
SUMMARY:Board Meetings Held on Wednesdays
DESCRIPTION:NO MEETING ON 04/15/26
URL:https://www.westburywaterdistrict.com/event/board-meeting-2/2027-08-11/
END:VEVENT
BEGIN:VEVENT
DTSTART;TZID=America/New_York:20270818T160000
DTEND;TZID=America/New_York:20270818T170000
DTSTAMP:20260420T104200
CREATED:20260409T171127Z
LAST-MODIFIED:20260409T171236Z
UID:10000071-1818604800-1818608400@www.westburywaterdistrict.com
SUMMARY:Board Meetings Held on Wednesdays
DESCRIPTION:NO MEETING ON 04/15/26
URL:https://www.westburywaterdistrict.com/event/board-meeting-2/2027-08-18/
END:VEVENT
BEGIN:VEVENT
DTSTART;TZID=America/New_York:20270825T160000
DTEND;TZID=America/New_York:20270825T170000
DTSTAMP:20260420T104200
CREATED:20260409T171127Z
LAST-MODIFIED:20260409T171236Z
UID:10000072-1819209600-1819213200@www.westburywaterdistrict.com
SUMMARY:Board Meetings Held on Wednesdays
DESCRIPTION:NO MEETING ON 04/15/26
URL:https://www.westburywaterdistrict.com/event/board-meeting-2/2027-08-25/
END:VEVENT
BEGIN:VEVENT
DTSTART;TZID=America/New_York:20270901T160000
DTEND;TZID=America/New_York:20270901T170000
DTSTAMP:20260420T104200
CREATED:20260409T171127Z
LAST-MODIFIED:20260409T171236Z
UID:10000073-1819814400-1819818000@www.westburywaterdistrict.com
SUMMARY:Board Meetings Held on Wednesdays
DESCRIPTION:NO MEETING ON 04/15/26
URL:https://www.westburywaterdistrict.com/event/board-meeting-2/2027-09-01/
END:VEVENT
BEGIN:VEVENT
DTSTART;TZID=America/New_York:20270908T160000
DTEND;TZID=America/New_York:20270908T170000
DTSTAMP:20260420T104200
CREATED:20260409T171127Z
LAST-MODIFIED:20260409T171236Z
UID:10000074-1820419200-1820422800@www.westburywaterdistrict.com
SUMMARY:Board Meetings Held on Wednesdays
DESCRIPTION:NO MEETING ON 04/15/26
URL:https://www.westburywaterdistrict.com/event/board-meeting-2/2027-09-08/
END:VEVENT
BEGIN:VEVENT
DTSTART;TZID=America/New_York:20270915T160000
DTEND;TZID=America/New_York:20270915T170000
DTSTAMP:20260420T104200
CREATED:20260409T171127Z
LAST-MODIFIED:20260409T171236Z
UID:10000075-1821024000-1821027600@www.westburywaterdistrict.com
SUMMARY:Board Meetings Held on Wednesdays
DESCRIPTION:NO MEETING ON 04/15/26
URL:https://www.westburywaterdistrict.com/event/board-meeting-2/2027-09-15/
END:VEVENT
BEGIN:VEVENT
DTSTART;TZID=America/New_York:20270922T160000
DTEND;TZID=America/New_York:20270922T170000
DTSTAMP:20260420T104200
CREATED:20260409T171127Z
LAST-MODIFIED:20260409T171236Z
UID:10000076-1821628800-1821632400@www.westburywaterdistrict.com
SUMMARY:Board Meetings Held on Wednesdays
DESCRIPTION:NO MEETING ON 04/15/26
URL:https://www.westburywaterdistrict.com/event/board-meeting-2/2027-09-22/
END:VEVENT
BEGIN:VEVENT
DTSTART;TZID=America/New_York:20270929T160000
DTEND;TZID=America/New_York:20270929T170000
DTSTAMP:20260420T104200
CREATED:20260409T171127Z
LAST-MODIFIED:20260409T171236Z
UID:10000077-1822233600-1822237200@www.westburywaterdistrict.com
SUMMARY:Board Meetings Held on Wednesdays
DESCRIPTION:NO MEETING ON 04/15/26
URL:https://www.westburywaterdistrict.com/event/board-meeting-2/2027-09-29/
END:VEVENT
BEGIN:VEVENT
DTSTART;TZID=America/New_York:20271006T160000
DTEND;TZID=America/New_York:20271006T170000
DTSTAMP:20260420T104200
CREATED:20260409T171127Z
LAST-MODIFIED:20260409T171236Z
UID:10000078-1822838400-1822842000@www.westburywaterdistrict.com
SUMMARY:Board Meetings Held on Wednesdays
DESCRIPTION:NO MEETING ON 04/15/26
URL:https://www.westburywaterdistrict.com/event/board-meeting-2/2027-10-06/
END:VEVENT
BEGIN:VEVENT
DTSTART;TZID=America/New_York:20271013T160000
DTEND;TZID=America/New_York:20271013T170000
DTSTAMP:20260420T104200
CREATED:20260409T171127Z
LAST-MODIFIED:20260409T171236Z
UID:10000079-1823443200-1823446800@www.westburywaterdistrict.com
SUMMARY:Board Meetings Held on Wednesdays
DESCRIPTION:NO MEETING ON 04/15/26
URL:https://www.westburywaterdistrict.com/event/board-meeting-2/2027-10-13/
END:VEVENT
BEGIN:VEVENT
DTSTART;TZID=America/New_York:20271020T160000
DTEND;TZID=America/New_York:20271020T170000
DTSTAMP:20260420T104200
CREATED:20260409T171127Z
LAST-MODIFIED:20260409T171236Z
UID:10000080-1824048000-1824051600@www.westburywaterdistrict.com
SUMMARY:Board Meetings Held on Wednesdays
DESCRIPTION:NO MEETING ON 04/15/26
URL:https://www.westburywaterdistrict.com/event/board-meeting-2/2027-10-20/
END:VEVENT
BEGIN:VEVENT
DTSTART;TZID=America/New_York:20271027T160000
DTEND;TZID=America/New_York:20271027T170000
DTSTAMP:20260420T104200
CREATED:20260409T171127Z
LAST-MODIFIED:20260409T171236Z
UID:10000081-1824652800-1824656400@www.westburywaterdistrict.com
SUMMARY:Board Meetings Held on Wednesdays
DESCRIPTION:NO MEETING ON 04/15/26
URL:https://www.westburywaterdistrict.com/event/board-meeting-2/2027-10-27/
END:VEVENT
BEGIN:VEVENT
DTSTART;TZID=America/New_York:20271103T160000
DTEND;TZID=America/New_York:20271103T170000
DTSTAMP:20260420T104200
CREATED:20260409T171127Z
LAST-MODIFIED:20260409T171236Z
UID:10000082-1825257600-1825261200@www.westburywaterdistrict.com
SUMMARY:Board Meetings Held on Wednesdays
DESCRIPTION:NO MEETING ON 04/15/26
URL:https://www.westburywaterdistrict.com/event/board-meeting-2/2027-11-03/
END:VEVENT
BEGIN:VEVENT
DTSTART;TZID=America/New_York:20271110T160000
DTEND;TZID=America/New_York:20271110T170000
DTSTAMP:20260420T104200
CREATED:20260409T171127Z
LAST-MODIFIED:20260409T171236Z
UID:10000083-1825862400-1825866000@www.westburywaterdistrict.com
SUMMARY:Board Meetings Held on Wednesdays
DESCRIPTION:NO MEETING ON 04/15/26
URL:https://www.westburywaterdistrict.com/event/board-meeting-2/2027-11-10/
END:VEVENT
BEGIN:VEVENT
DTSTART;TZID=America/New_York:20271117T160000
DTEND;TZID=America/New_York:20271117T170000
DTSTAMP:20260420T104200
CREATED:20260409T171127Z
LAST-MODIFIED:20260409T171236Z
UID:10000084-1826467200-1826470800@www.westburywaterdistrict.com
SUMMARY:Board Meetings Held on Wednesdays
DESCRIPTION:NO MEETING ON 04/15/26
URL:https://www.westburywaterdistrict.com/event/board-meeting-2/2027-11-17/
END:VEVENT
BEGIN:VEVENT
DTSTART;TZID=America/New_York:20271124T160000
DTEND;TZID=America/New_York:20271124T170000
DTSTAMP:20260420T104200
CREATED:20260409T171127Z
LAST-MODIFIED:20260409T171236Z
UID:10000085-1827072000-1827075600@www.westburywaterdistrict.com
SUMMARY:Board Meetings Held on Wednesdays
DESCRIPTION:NO MEETING ON 04/15/26
URL:https://www.westburywaterdistrict.com/event/board-meeting-2/2027-11-24/
END:VEVENT
BEGIN:VEVENT
DTSTART;TZID=America/New_York:20271201T160000
DTEND;TZID=America/New_York:20271201T170000
DTSTAMP:20260420T104200
CREATED:20260409T171127Z
LAST-MODIFIED:20260409T171236Z
UID:10000086-1827676800-1827680400@www.westburywaterdistrict.com
SUMMARY:Board Meetings Held on Wednesdays
DESCRIPTION:NO MEETING ON 04/15/26
URL:https://www.westburywaterdistrict.com/event/board-meeting-2/2027-12-01/
END:VEVENT
BEGIN:VEVENT
DTSTART;TZID=America/New_York:20271208T160000
DTEND;TZID=America/New_York:20271208T170000
DTSTAMP:20260420T104200
CREATED:20260409T171127Z
LAST-MODIFIED:20260409T171236Z
UID:10000087-1828281600-1828285200@www.westburywaterdistrict.com
SUMMARY:Board Meetings Held on Wednesdays
DESCRIPTION:NO MEETING ON 04/15/26
URL:https://www.westburywaterdistrict.com/event/board-meeting-2/2027-12-08/
END:VEVENT
BEGIN:VEVENT
DTSTART;TZID=America/New_York:20271215T160000
DTEND;TZID=America/New_York:20271215T170000
DTSTAMP:20260420T104200
CREATED:20260409T171127Z
LAST-MODIFIED:20260409T171236Z
UID:10000088-1828886400-1828890000@www.westburywaterdistrict.com
SUMMARY:Board Meetings Held on Wednesdays
DESCRIPTION:NO MEETING ON 04/15/26
URL:https://www.westburywaterdistrict.com/event/board-meeting-2/2027-12-15/
END:VEVENT
BEGIN:VEVENT
DTSTART;TZID=America/New_York:20271222T160000
DTEND;TZID=America/New_York:20271222T170000
DTSTAMP:20260420T104200
CREATED:20260409T171127Z
LAST-MODIFIED:20260409T171236Z
UID:10000089-1829491200-1829494800@www.westburywaterdistrict.com
SUMMARY:Board Meetings Held on Wednesdays
DESCRIPTION:NO MEETING ON 04/15/26
URL:https://www.westburywaterdistrict.com/event/board-meeting-2/2027-12-22/
END:VEVENT
END:VCALENDAR